BEGIN:VCALENDAR
VERSION:2.0
PRODID:-//SoundCheck Music School - ECPv6.15.20//NONSGML v1.0//EN
CALSCALE:GREGORIAN
METHOD:PUBLISH
X-ORIGINAL-URL:https://soundcheckmusicschool.com
X-WR-CALDESC:Events for SoundCheck Music School
REFRESH-INTERVAL;VALUE=DURATION:PT1H
X-Robots-Tag:noindex
X-PUBLISHED-TTL:PT1H
BEGIN:VTIMEZONE
TZID:UTC
BEGIN:STANDARD
TZOFFSETFROM:+0000
TZOFFSETTO:+0000
TZNAME:UTC
DTSTART:20240101T000000
END:STANDARD
END:VTIMEZONE
BEGIN:VEVENT
DTSTART;TZID=UTC:20250126T120000
DTEND;TZID=UTC:20250126T160000
DTSTAMP:20260419T165057
CREATED:20250123T115323Z
LAST-MODIFIED:20250123T115323Z
UID:9629-1737892800-1737907200@soundcheckmusicschool.com
SUMMARY:26th Student Live Show - 2010's\, Student Bands
DESCRIPTION:
URL:https://soundcheckmusicschool.com/event/26th-student-live-show-2010s-student-bands/
LOCATION:Bar 10/Corbin Bowl\, 19616 Ventura Blvd\, Tarzana\, CA\, 91356\, United States
CATEGORIES:Shows
ATTACH;FMTTYPE=image/jpeg:https://soundcheckmusicschool.com/wp-content/uploads/2025/01/26th-show-Bands.jpg
END:VEVENT
END:VCALENDAR